BEGIN:VCALENDAR
VERSION:2.0
PRODID:-//BE VIP Arena - ECPv6.15.15//NONSGML v1.0//EN
CALSCALE:GREGORIAN
METHOD:PUBLISH
X-WR-CALNAME:BE VIP Arena
X-ORIGINAL-URL:https://beviparena.com
X-WR-CALDESC:Events for BE VIP Arena
REFRESH-INTERVAL;VALUE=DURATION:PT1H
X-Robots-Tag:noindex
X-PUBLISHED-TTL:PT1H
BEGIN:VTIMEZONE
TZID:Asia/Dubai
BEGIN:STANDARD
TZOFFSETFROM:+0400
TZOFFSETTO:+0400
TZNAME:+04
DTSTART:20240101T000000
END:STANDARD
END:VTIMEZONE
BEGIN:VEVENT
DTSTART;VALUE=DATE:20250830
DTEND;VALUE=DATE:20250831
DTSTAMP:20260423T091750
CREATED:20250819T111936Z
LAST-MODIFIED:20250819T112030Z
UID:20180-1756512000-1756598399@beviparena.com
SUMMARY:Arena Connect Day
DESCRIPTION:Arena Connect Day is a one-of-a-kind private event bringing together 200+ of the\nregion’s top event professionals — from event organizers and DMCs to workshop\nfacilitators and team-building experts.\nThis is your opportunity to explore BE VIP Arena from the inside out\, connect with\nindustry peers\, and discover powerful ways to collaborate on future events.
URL:https://beviparena.com/event/arena-connect-day/
LOCATION:Be VIP Arena\, D68\, Be VIP Arena dubai production city\, Dubai\, United Arab Emirates
ORGANIZER;CN="Be VIP Arena":MAILTO:booking@beviparena.com
END:VEVENT
END:VCALENDAR