BEGIN:VCALENDAR
VERSION:2.0
PRODID:-//BE VIP Arena - ECPv6.15.15//NONSGML v1.0//EN
CALSCALE:GREGORIAN
METHOD:PUBLISH
X-WR-CALNAME:BE VIP Arena
X-ORIGINAL-URL:https://beviparena.com
X-WR-CALDESC:Events for BE VIP Arena
REFRESH-INTERVAL;VALUE=DURATION:PT1H
X-Robots-Tag:noindex
X-PUBLISHED-TTL:PT1H
BEGIN:VTIMEZONE
TZID:Asia/Dubai
BEGIN:STANDARD
TZOFFSETFROM:+0400
TZOFFSETTO:+0400
TZNAME:+04
DTSTART:20240101T000000
END:STANDARD
END:VTIMEZONE
BEGIN:VEVENT
DTSTART;TZID=Asia/Dubai:20251122T100000
DTEND;TZID=Asia/Dubai:20251123T170000
DTSTAMP:20260423T044611
CREATED:20251101T144442Z
LAST-MODIFIED:20251122T165017Z
UID:20222-1763805600-1763917200@beviparena.com
SUMMARY:Ai & Automation Workshop
DESCRIPTION:
URL:https://beviparena.com/event/ai-and-automation-workshop/
LOCATION:Be VIP Arena\, D68\, Be VIP Arena dubai production city\, Dubai\, United Arab Emirates
ATTACH;FMTTYPE=image/jpeg:https://beviparena.com/wp-content/uploads/2025/11/aievent-1.jpg
ORGANIZER;CN="Be VIP Arena":MAILTO:booking@beviparena.com
END:VEVENT
END:VCALENDAR