BEGIN:VCALENDAR
VERSION:2.0
PRODID:-//BE VIP Arena - ECPv6.15.15//NONSGML v1.0//EN
CALSCALE:GREGORIAN
METHOD:PUBLISH
X-WR-CALNAME:BE VIP Arena
X-ORIGINAL-URL:https://beviparena.com
X-WR-CALDESC:Events for BE VIP Arena
REFRESH-INTERVAL;VALUE=DURATION:PT1H
X-Robots-Tag:noindex
X-PUBLISHED-TTL:PT1H
BEGIN:VTIMEZONE
TZID:Asia/Dubai
BEGIN:STANDARD
TZOFFSETFROM:+0400
TZOFFSETTO:+0400
TZNAME:+04
DTSTART:20250101T000000
END:STANDARD
END:VTIMEZONE
BEGIN:VEVENT
DTSTART;TZID=Asia/Dubai:20260425T140000
DTEND;TZID=Asia/Dubai:20260425T170000
DTSTAMP:20260423T020116
CREATED:20260414T135912Z
LAST-MODIFIED:20260416T140240Z
UID:20952-1777125600-1777136400@beviparena.com
SUMMARY:THE GROWTH FORMULA
DESCRIPTION:A high-impact business event designed to give you direct access to the\nreal stories\, strategies\, and decisions behind some of Dubai’s most\nsuccessful businesses.\nThis is where top founders and business leaders step on stage to break\ndown how they built\, scaled\, and moved faster than the market —\nsharing what actually worked\, what didn’t\, and what made the\ndifference.
URL:https://beviparena.com/event/the-growth-formula/
LOCATION:Be VIP Arena\, D68\, Be VIP Arena dubai production city\, Dubai\, United Arab Emirates
ATTACH;FMTTYPE=image/jpeg:https://beviparena.com/wp-content/uploads/2026/04/Ticket-THE-GROWTH-scaled.jpeg
ORGANIZER;CN="Be VIP Arena":MAILTO:booking@beviparena.com
END:VEVENT
END:VCALENDAR